BEGIN:VCALENDAR
VERSION:2.0
PRODID:-//ChamberMaster//Event Calendar 2.0//EN
METHOD:PUBLISH
X-PUBLISHED-TTL:P3D
REFRESH-INTERVAL:P3D
CALSCALE:GREGORIAN
BEGIN:VEVENT
DTSTART:20260116T013000Z
DTEND:20260116T033000Z
X-MICROSOFT-CDO-ALLDAYEVENT:FALSE
SUMMARY:All Shades of Green Business Mixer 2026
DESCRIPTION:Join us to celebrate Santa Monica's recent green certified businesses and connect with local leaders shaping a greener future. Learn about the City's sustainability initiatives\, including the Green Business Program and the Sustainable Quality Awards (SQA). The SQA 2026 business nominations are open!  Nominate your favorite Santa Monica business or your own until January 23 2026.\n\nCome together with local green businesses and community leaders for a guided tour of the newly certified YMCA a space making meaningful strides in sustainability. Explore upgrades like energy-saving window tint\, expanded waste-reduction efforts\, and improvements that support healthier indoor air. Enjoy a vegetarian grazing table and beverages as we celebrate Santa Monica's growing green business community.\n\nFREE EVENT\n\n5:30 Doors open\n\n6:00 Welcome announcement \n\n6:30  YMCA facility tour
X-ALT-DESC;FMTTYPE=text/html:<p><span style="color:rgb(34\, 34\, 34)">Join us to celebrate Santa Monica&#39\;s recent green certified businesses and connect with local leaders shaping a greener future. Learn about the City&rsquo\;s sustainability initiatives\, including the Green Business Program and the Sustainable Quality Awards (SQA).&nbsp\;</span><a href="http://www.smsqa.com/" rel="nofollow" style="color-scheme: unset\; forced-color-adjust: unset\; mask: unset\; math-depth: unset\; position: unset\; position-anchor: unset\; text-size-adjust: unset\; appearance: unset\; color: rgb(65\, 117\, 5)\; font: unset\; font-palette: unset\; font-synthesis: unset\; position-area: unset\; text-orientation: unset\; text-rendering: unset\; text-spacing-trim: unset\; -webkit-font-smoothing: unset\; -webkit-locale: unset\; -webkit-text-orientation: unset\; -webkit-writing-mode: unset\; writing-mode: unset\; zoom: unset\; accent-color: unset\; place-content: unset\; place-items: unset\; place-self: unset\; alignment-baseline: unset\; anchor-name: unset\; anchor-scope: unset\; animation-composition: unset\; animation: unset\; app-region: unset\; aspect-ratio: unset\; backdrop-filter: unset\; backface-visibility: unset\; background: unset\; background-blend-mode: unset\; baseline-shift: unset\; baseline-source: unset\; block-size: unset\; border-block: unset\; border: unset\; border-radius: unset\; border-collapse: unset\; border-end-end-radius: unset\; border-end-start-radius: unset\; border-inline: unset\; border-start-end-radius: unset\; border-start-start-radius: unset\; inset: unset\; box-decoration-break: unset\; box-shadow: unset\; box-sizing: border-box\; break-after: unset\; break-before: unset\; break-inside: unset\; buffered-rendering: unset\; caption-side: unset\; caret-animation: unset\; caret-color: unset\; clear: unset\; clip: unset\; clip-path: unset\; clip-rule: unset\; color-interpolation: unset\; color-interpolation-filters: unset\; color-rendering: unset\; columns: unset\; column-fill: unset\; gap: unset\; column-rule: unset\; column-span: unset\; contain: unset\; contain-intrinsic-block-size: unset\; contain-intrinsic-size: unset\; contain-intrinsic-inline-size: unset\; container: unset\; content: unset\; content-visibility: unset\; corner-shape: unset\; corner-block-end-shape: unset\; corner-block-start-shape: unset\; counter-increment: unset\; counter-reset: unset\; counter-set: unset\; cursor: pointer\; cx: unset\; cy: unset\; d: unset\; display: revert\; dominant-baseline: unset\; dynamic-range-limit: unset\; empty-cells: unset\; field-sizing: unset\; fill: unset\; fill-opacity: unset\; fill-rule: unset\; filter: unset\; flex: unset\; flex-flow: unset\; float: unset\; flood-color: unset\; flood-opacity: unset\; grid: unset\; grid-area: unset\; height: unset\; hyphenate-character: unset\; hyphenate-limit-chars: unset\; hyphens: unset\; image-orientation: unset\; image-rendering: unset\; initial-letter: unset\; inline-size: unset\; inset-block: unset\; inset-inline: unset\; interest-delay: unset\; interpolate-size: unset\; isolation: unset\; letter-spacing: unset\; lighting-color: unset\; line-break: unset\; list-style: unset\; margin-block: unset\; margin: unset\; margin-inline: unset\; marker: unset\; mask-type: unset\; math-shift: unset\; math-style: unset\; max-block-size: unset\; max-height: unset\; max-inline-size: unset\; max-width: unset\; min-block-size: unset\; min-height: unset\; min-inline-size: unset\; min-width: unset\; mix-blend-mode: unset\; object-fit: unset\; object-position: unset\; object-view-box: unset\; offset: unset\; opacity: unset\; order: unset\; orphans: unset\; outline: unset\; outline-offset: unset\; overflow-anchor: unset\; overflow-block: unset\; overflow-clip-margin: unset\; overflow-inline: unset\; overflow-wrap: unset\; overflow: unset\; overlay: unset\; overscroll-behavior-block: unset\; overscroll-behavior-inline: unset\; overscroll-behavior: unset\; padding-block: unset\; padding: unset\; padding-inline: unset\; page: unset\; page-orientation: unset\; paint-order: unset\; perspective: unset\; perspective-origin: unset\; pointer-events: unset\; position-try: unset\; position-visibility: unset\; print-color-adjust: unset\; quotes: unset\; r: unset\; reading-flow: unset\; reading-order: unset\; resize: unset\; rotate: unset\; ruby-align: unset\; ruby-position: unset\; rx: unset\; ry: unset\; scale: unset\; scroll-behavior: unset\; scroll-initial-target: unset\; scroll-margin-block: unset\; scroll-margin: unset\; scroll-margin-inline: unset\; scroll-marker-group: unset\; scroll-padding-block: unset\; scroll-padding: unset\; scroll-padding-inline: unset\; scroll-snap-align: unset\; scroll-snap-stop: unset\; scroll-snap-type: unset\; scroll-target-group: unset\; scroll-timeline: unset\; scrollbar-color: unset\; scrollbar-gutter: unset\; scrollbar-width: unset\; shape-image-threshold: unset\; shape-margin: unset\; shape-outside: unset\; shape-rendering: unset\; size: unset\; speak: unset\; stop-color: unset\; stop-opacity: unset\; stroke: unset\; stroke-dasharray: unset\; stroke-dashoffset: unset\; stroke-linecap: unset\; stroke-linejoin: unset\; stroke-miterlimit: unset\; stroke-opacity: unset\; stroke-width: unset\; tab-size: unset\; table-layout: unset\; text-align: unset\; text-align-last: unset\; text-anchor: unset\; text-autospace: unset\; text-box: unset\; text-combine-upright: unset\; text-decoration-skip-ink: unset\; text-emphasis: unset\; text-emphasis-position: unset\; text-indent: unset\; text-overflow: unset\; text-shadow: unset\; text-transform: unset\; text-underline-offset: unset\; text-underline-position: unset\; text-wrap: unset\; timeline-scope: unset\; touch-action: unset\; transform: unset\; transform-box: unset\; transform-origin: unset\; transform-style: unset\; transition: unset\; translate: unset\; user-select: unset\; vector-effect: unset\; vertical-align: unset\; view-timeline: unset\; view-transition-class: unset\; view-transition-group: unset\; view-transition-name: unset\; visibility: unset\; border-spacing: unset\; -webkit-box-align: unset\; -webkit-box-decoration-break: unset\; -webkit-box-direction: unset\; -webkit-box-flex: unset\; -webkit-box-ordinal-group: unset\; -webkit-box-orient: unset\; -webkit-box-pack: unset\; -webkit-box-reflect: unset\; -webkit-line-break: unset\; -webkit-line-clamp: unset\; -webkit-mask-box-image: unset\; -webkit-rtl-ordering: unset\; -webkit-ruby-position: unset\; -webkit-tap-highlight-color: unset\; -webkit-text-combine: unset\; -webkit-text-decorations-in-effect: unset\; -webkit-text-fill-color: unset\; -webkit-text-security: unset\; -webkit-text-stroke: unset\; -webkit-user-drag: unset\; white-space-collapse: unset\; widows: unset\; width: unset\; will-change: unset\; word-break: unset\; word-spacing: unset\; x: unset\; y: unset\; z-index: unset\;" target="_blank"><strong>The SQA 2026</strong></a><strong>&nbsp\;business nominations are open!&nbsp\; Nominate your favorite Santa Monica business or your own until January 23 2026.</strong></p>\n\n<p>Come together with local green businesses and community leaders for a guided tour of the newly certified YMCA&mdash\;a space making meaningful strides in sustainability. Explore upgrades like energy-saving window tint\, expanded waste-reduction efforts\, and improvements that support healthier indoor air. Enjoy a vegetarian grazing table and beverages as we celebrate Santa Monica&#39\;s growing green business community.</p>\n\n<p><span style="color:rgb(34\, 34\, 34)">FREE EVENT</span></p>\n\n<p>5:30<strong>&nbsp\;Doors open</strong><br />\n6:00<strong>&nbsp\;Welcome announcement&nbsp\;</strong><br />\n6:30&nbsp\;&nbsp\;<strong>YMCA facility tour&nbsp\;</strong></p>\n
LOCATION:1332 6th Street\, Santa Monica CA 90401
UID:e.648.26282
SEQUENCE:3
DTSTAMP:20260421T143055Z
URL:https://members.smchamber.com/events/details/all-shades-of-green-business-mixer-2026-26282
END:VEVENT

END:VCALENDAR
