BEGIN:VCALENDAR
VERSION:2.0
PRODID:-//ChamberMaster//Event Calendar 2.0//EN
METHOD:PUBLISH
X-PUBLISHED-TTL:P3D
REFRESH-INTERVAL:P3D
CALSCALE:GREGORIAN
BEGIN:VEVENT
DTSTART:20260110T000000Z
DTEND:20260110T010000Z
X-MICROSOFT-CDO-ALLDAYEVENT:FALSE
SUMMARY:Budgeting Is Sexy LIVE Workshop
DESCRIPTION:Budgeting Is Sexy Live is an interactive\, relationship-centered workshop designed to help couples and individuals strengthen both their finances and their connection. This live experience goes beyond numbers\, teaching practical budgeting strategies while addressing communication\, trust\, and financial intimacy because money conversations don't have to create tension.\n\nThis workshop is hosted inside Sacred Sparks\, a private membership community focused on helping relationships thrive through education\, conversation\, and accountability. Participants must be members of the Sacred Sparks community to attend\, making this a unique opportunity to learn\, grow\, and connect with others who value healthy relationships and financial clarity.
X-ALT-DESC;FMTTYPE=text/html:<p><strong>Budgeting Is Sexy Live</strong> is an interactive\, relationship-centered workshop designed to help couples and individuals strengthen both their finances <em>and</em> their connection. This live experience goes beyond numbers\, teaching practical budgeting strategies while addressing communication\, trust\, and financial intimacy&mdash\;because money conversations don&rsquo\;t have to create tension.</p>\n\n<p>This workshop is hosted inside <strong>Sacred Sparks</strong>\, a private membership community focused on helping relationships thrive through education\, conversation\, and accountability. <strong>Participants must be members of the Sacred Sparks community to attend</strong>\, making this a unique opportunity to learn\, grow\, and connect with others who value healthy relationships and financial clarity.</p>\n
LOCATION:Workshop is virtual and hosted on the Skool platform: https://bit.ly/SacredSparks
UID:e.648.26415
SEQUENCE:3
DTSTAMP:20260421T142056Z
URL:https://members.smchamber.com/events/details/budgeting-is-sexy-live-workshop-26415
END:VEVENT

END:VCALENDAR
