BEGIN:VCALENDAR
VERSION:2.0
PRODID:-//ChamberMaster//Event Calendar 2.0//EN
METHOD:PUBLISH
X-PUBLISHED-TTL:P3D
REFRESH-INTERVAL:P3D
CALSCALE:GREGORIAN
BEGIN:VEVENT
DTSTART:20130615T180000Z
DTEND:20130615T200000Z
X-MICROSOFT-CDO-ALLDAYEVENT:FALSE
SUMMARY:Color & Spirituality Workshop
DESCRIPTION:Introduction to Color & Spirituality: The experience of honoring and exploring your spiritual journey through color.\n\nJoin us as we use color creatively as an opening into exploring our spirituality and\n\ndiscovering the sacred within and around us. This workshop includes a brief introduction\n\nto SoulCollage . Art experience not required. All materials provided.\n\n\n\nFacilitated by Rosanna Ferraro\, MA\, MASG\n\n\n\nRosanna earned her MA in Spiritual Guidance from Soa University and is the founder of Honoring Your Spiritual Journey. She provides spiritual guidance to individuals\, groups\, and organizations\, using color and creative expression as a companion to explore one's spiritual journey. Learn more about Spiritual Guidance and Rosanna at www.honoringyourspiritualjourney.com. See her Meditation Through Color video at http://m.youtube.com/#/watch?v=kpMCRJBvtlc
X-ALT-DESC;FMTTYPE=text/html:Introduction to Color &amp\; Spirituality: The experience of honoring and exploring your spiritual journey through color.<br />\nJoin us as we use color creatively as an opening into exploring our spirituality and<br />\ndiscovering the sacred within and around us. This workshop includes a brief introduction<br />\nto SoulCollage&reg\;. Art experience not required. All materials provided.<br />\n<br />\nFacilitated by Rosanna Ferraro\, MA\, MASG<br />\n<br />\nRosanna earned her MA in Spiritual Guidance from Soa University and is the founder of Honoring Your Spiritual Journey. She provides spiritual guidance to individuals\, groups\, and organizations\, using color and creative expression as a companion to explore one&rsquo\;s spiritual journey. Learn more about Spiritual Guidance and Rosanna at www.honoringyourspiritualjourney.com. See her Meditation Through Color video at http://m.youtube.com/#/watch?v=kpMCRJBvtlc
LOCATION:YWCA Santa Monica/Westside 2019 14th Street Santa Monica\, CA 90405
UID:e.648.3334
SEQUENCE:3
DTSTAMP:20260422T070750Z
URL:https://members.smchamber.com/events/details/color-spirituality-workshop-06-15-2013-3334
END:VEVENT

END:VCALENDAR
