BEGIN:VCALENDAR
VERSION:2.0
PRODID:-//ChamberMaster//Event Calendar 2.0//EN
METHOD:PUBLISH
X-PUBLISHED-TTL:P3D
REFRESH-INTERVAL:P3D
CALSCALE:GREGORIAN
BEGIN:VEVENT
DTSTART:20260218T020000Z
DTEND:20260218T040000Z
X-MICROSOFT-CDO-ALLDAYEVENT:FALSE
SUMMARY:Date Nights with Tenisha
DESCRIPTION:Date Nights with Tenisha are fun\, intentional\, and connection-building evenings designed to help couples strengthen their bond and keep the spark alive. Each event is filled with laughter\, meaningful conversation\, and practical tools that help couples grow closer on purpose. We meet every 3rd Saturday in Woodland Hills\, with Santa Monica and South Central LA coming soon!
X-ALT-DESC;FMTTYPE=text/html:<p><strong>Date Nights with Tenisha are fun\, intentional\, and connection-building evenings designed to help couples strengthen their bond and keep the spark alive. Each event is filled with laughter\, meaningful conversation\, and practical tools that help couples grow closer on purpose. We meet every 3rd Saturday in Woodland Hills\, with Santa Monica and South Central LA coming soon!</strong></p>\n\n<p>&nbsp\;</p>\n
LOCATION:23150 Avenue San Luis\, Woodland Hills\, CA 91364
UID:e.648.26284
SEQUENCE:3
DTSTAMP:20260423T090030Z
URL:https://members.smchamber.com/events/details/date-nights-with-tenisha-02-17-2026-26284
END:VEVENT

END:VCALENDAR
