BEGIN:VCALENDAR
VERSION:2.0
PRODID:-//ChamberMaster//Event Calendar 2.0//EN
METHOD:PUBLISH
X-PUBLISHED-TTL:P3D
REFRESH-INTERVAL:P3D
CALSCALE:GREGORIAN
BEGIN:VEVENT
DTSTART:20260620T193000Z
DTEND:20260620T233000Z
X-MICROSOFT-CDO-ALLDAYEVENT:FALSE
SUMMARY:Rock 'n' Polo
DESCRIPTION:Experience elegance\, exhilaration and entertainment at Teen Cancer America's ROCK 'N' POLO\, an annual charity event where the sophistication of polo meets the spirit of rock. ROCK 'N' POLO 2026 will be the first major charity event held at Will Rogers Park since its re-opening\, and we see it as an incredible opportunity to bring the community together. Hosted by Teen Cancer America\, this distinguished gathering unites generosity\, glamour\, and good will in support of teens and young adults battling cancer. \n\n\n\nThis year's event is being held in loving memory of Graysen Briggs\, a young man who was diagnosed with a rare form of pancreatic cancer in 2023 and passed away a year later\, one month shy of his 16th birthday. His family - parents Michele and John Briggs\, brother Caden\, and Aunt Tammi and Uncle Alan Shapiro\, created the Graysen Briggs Tribute Fund with Teen Cancer America. Their goal is to help other young people like Graysen receive the compassionate care and specialized treatment they deserve when facing a cancer diagnosis.
X-ALT-DESC;FMTTYPE=text/html:<div>\n<p style="text-align:justify">Experience elegance\, exhilaration and entertainment at Teen Cancer America&#39\;s ROCK &#39\;N&#39\; POLO\, an annual charity event where the sophistication of polo meets the spirit of rock. ROCK &#39\;N&#39\; POLO 2026 will be the first major charity event held at Will Rogers Park since its re-opening\, and we see it as an incredible opportunity to bring the community together.&nbsp\;Hosted by Teen Cancer America\, this distinguished gathering unites generosity\, glamour\, and good will in support of teens and young adults battling cancer.&nbsp\;<br />\n<br />\nThis year&#39\;s event is being held in loving memory of Graysen Briggs\, a young man who&nbsp\;was diagnosed with a rare form of pancreatic cancer in 2023 and passed away a year later\, one month shy of his 16th birthday. His family - parents Michele and John Briggs\, brother Caden\, and Aunt Tammi and Uncle Alan Shapiro\, created the Graysen Briggs Tribute Fund with Teen Cancer America. Their goal is to help other young people like Graysen receive the compassionate care and specialized treatment they deserve when facing a cancer diagnosis.</p>\n</div>\n\n<div>\n<div>\n<div>\n<div>\n<div>\n<div>\n<div>\n<div>\n<div>\n<div>\n<div>\n<div>\n<div>\n<div>\n<div>\n<div>\n<div>\n<div>\n<div>\n<div>\n<div>\n<div>&nbsp\;</div>\n</div>\n</div>\n</div>\n</div>\n</div>\n</div>\n</div>\n</div>\n</div>\n</div>\n</div>\n</div>\n</div>\n</div>\n</div>\n</div>\n</div>\n</div>\n</div>\n</div>\n</div>\n
LOCATION:1501 Will Rogers State Park Rd\, Pacific Palisades\, CA 90272
UID:e.648.26570
SEQUENCE:3
DTSTAMP:20260421T115910Z
URL:https://members.smchamber.com/events/details/rock-n-polo-26570
END:VEVENT

END:VCALENDAR
