BEGIN:VCALENDAR
VERSION:2.0
PRODID:-//ChamberMaster//Event Calendar 2.0//EN
METHOD:PUBLISH
X-PUBLISHED-TTL:P3D
REFRESH-INTERVAL:P3D
CALSCALE:GREGORIAN
BEGIN:VEVENT
DTSTART:20260103T000000Z
DTEND:20260103T060000Z
X-MICROSOFT-CDO-ALLDAYEVENT:FALSE
SUMMARY:Route 66 Centennial Community Kickoff Party
DESCRIPTION:Kick off a year-long celebration of Route 66 with a community event at the Santa Monica Ice Rink\, marking 100 years of the historic roadway and its legacy at the end of the trail.\n\nAs part of The Drive Home VII\, this Route 66 Centennial Kickoff will feature classic cars on display from 4:00 to 10:00 pm in the Community Corner. From 4:00 to 7:00 pm\, attendees can connect with The Pier Corporation\, Pacific Park\, and Santa Monica Travel and Tourism\, who will be on-site with giveaways and information highlighting Santa Monica's attractions and experiences.\n\nRoute 66 themed mocktails will be available for purchase from Quickserve. No ticket or purchase is required to view the cars or participate in the event. Ice skating is optional\, with tickets available separately at iceatsantamonica.com.\n\nThis event celebrates the history\, culture\, and economic impact of Route 66 while welcoming the community and visitors alike to Santa Monica.
X-ALT-DESC;FMTTYPE=text/html:<p>Kick off a year-long celebration of Route 66 with a community event at the Santa Monica Ice Rink\, marking 100 years of the historic roadway and its legacy at the end of the trail.</p>\n\n<p>As part of The Drive Home VII\, this Route 66 Centennial Kickoff will feature classic cars on display from 4:00 to 10:00 pm in the Community Corner. From 4:00 to 7:00 pm\, attendees can connect with The Pier Corporation\, Pacific Park\, and Santa Monica Travel and Tourism\, who will be on-site with giveaways and information highlighting Santa Monica&rsquo\;s attractions and experiences.</p>\n\n<p>Route 66&ndash\;themed mocktails will be available for purchase from Quickserve. No ticket or purchase is required to view the cars or participate in the event. Ice skating is optional\, with tickets available separately at iceatsantamonica.com.</p>\n\n<p>This event celebrates the history\, culture\, and economic impact of Route 66 while welcoming the community and visitors alike to Santa Monica.</p>\n
LOCATION:1324 5th Street Santa Monica\, CA 90401
UID:e.648.26281
SEQUENCE:3
DTSTAMP:20260421T141531Z
URL:https://members.smchamber.com/events/details/route-66-centennial-community-kickoff-party-26281
END:VEVENT

END:VCALENDAR
