BEGIN:VCALENDAR
VERSION:2.0
PRODID:-//ChamberMaster//Event Calendar 2.0//EN
METHOD:PUBLISH
X-PUBLISHED-TTL:P3D
REFRESH-INTERVAL:P3D
CALSCALE:GREGORIAN
BEGIN:VEVENT
DTSTART:20260626T000000Z
DTEND:20260626T033000Z
X-MICROSOFT-CDO-ALLDAYEVENT:FALSE
SUMMARY:Toast to Santa Monica Board Installation
DESCRIPTION:Toast to Santa Monica\n\nBoard Installation Gala
X-ALT-DESC;FMTTYPE=text/html:Toast to Santa Monica<br />\nBoard Installation Gala
LOCATION:Fairmont Miramar Hotel & Bungalows 101 Wilshire Blvd Santa Monica
UID:e.648.26567
SEQUENCE:3
DTSTAMP:20260423T121128Z
URL:https://members.smchamber.com/events/details/toast-to-santa-monica-board-installation-26567
END:VEVENT

END:VCALENDAR
